BEGIN:VCALENDAR
VERSION:2.0
PRODID:-//Gundagai Services Club - ECPv5.0.2.1//NONSGML v1.0//EN
CALSCALE:GREGORIAN
METHOD:PUBLISH
X-WR-CALNAME:Gundagai Services Club
X-ORIGINAL-URL:https://gundagaiservicesclub.com.au
X-WR-CALDESC:Events for Gundagai Services Club
BEGIN:VTIMEZONE
TZID:UTC
BEGIN:STANDARD
TZOFFSETFROM:+0000
TZOFFSETTO:+0000
TZNAME:UTC
DTSTART:20200101T000000
END:STANDARD
END:VTIMEZONE
BEGIN:VEVENT
DTSTART;VALUE=DATE:20200613
DTEND;VALUE=DATE:20200614
DTSTAMP:20200229T232811
CREATED:20190516T005234Z
LAST-MODIFIED:20190516T005234Z
UID:10619-1592006400-1592092799@gundagaiservicesclub.com.au
SUMMARY:Saturday Golf
DESCRIPTION:Saturday golf comp\, every Saturday! Come along and have a hit\, test your skills and take in the wonderful Gundagai golf course! \n
URL:https://gundagaiservicesclub.com.au/event/saturday-golf-2020-06-13/
END:VEVENT
END:VCALENDAR